BEGIN:VCALENDAR
VERSION:2.0
PRODID:-//eventon.com NONSGML v1.0//EN
BEGIN:VEVENT
UID:69e8895938f0f
DTSTAMP:20260422T103953
DTSTART:20230625T080000Z
DTEND:20230624T110000Z
TZID:Pacific/Midway
LOCATION:
SUMMARY:VÍCTOR MANUEL- LEÓN
DESCRIPTION: VÍCTOR MANUEL- LEÓN
URL:https://www.santogrialproducciones.com/events/victor-manuel-leon/
END:VEVENT
END:VCALENDAR