BEGIN:VCALENDAR
VERSION:2.0
PRODID:-//eventon.com NONSGML v1.0//EN
BEGIN:VEVENT
UID:69e63838aa6aa
DTSTAMP:20260420T162912
DTSTART:20230624T080000Z
DTEND:20230623T110000Z
TZID:Pacific/Midway
LOCATION:
SUMMARY:VÍCTOR MANUEL- HUESCA
DESCRIPTION: VÍCTOR MANUEL- HUESCA
URL:https://www.santogrialproducciones.com/events/victor-manuel-huesca/
END:VEVENT
END:VCALENDAR