BEGIN:VCALENDAR
VERSION:2.0
PRODID:-//eventon.com NONSGML v1.0//EN
BEGIN:VEVENT
UID:69e62a1eea2cb
DTSTAMP:20260420T152902
DTSTART:20230610T090000Z
DTEND:20230609T110000Z
TZID:Pacific/Midway
LOCATION:
SUMMARY:VÍCTOR MANUEL- AZUQUECA DE HENARES
DESCRIPTION: VÍCTOR MANUEL- AZUQUECA DE HENARES
URL:https://www.santogrialproducciones.com/events/victor-manuel-azuqueca-de-henares/
END:VEVENT
END:VCALENDAR