BEGIN:VCALENDAR
VERSION:2.0
PRODID:-//eventon.com NONSGML v1.0//EN
BEGIN:VEVENT
UID:69e5fa1eea2d2
DTSTAMP:20260420T120414
DTSTART:20230430T070000Z
DTEND:20230429T110000Z
TZID:Pacific/Midway
LOCATION:
SUMMARY:VÍCTOR MANUEL- PAMPLONA
DESCRIPTION: VÍCTOR MANUEL- PAMPLONA
URL:https://www.santogrialproducciones.com/events/victor-manuel-pamplona/
END:VEVENT
END:VCALENDAR