BEGIN:VCALENDAR
VERSION:2.0
PRODID:-//eventon.com NONSGML v1.0//EN
BEGIN:VEVENT
UID:69e778cdcd012
DTSTAMP:20260421T151701
DTSTART:20220918T090000Z
DTEND:20220917T110000Z
TZID:Pacific/Midway
LOCATION:
SUMMARY:ESTOPA- OVIEDO
DESCRIPTION: ESTOPA- OVIEDO
URL:https://www.santogrialproducciones.com/events/estopa-oviedo/
END:VEVENT
END:VCALENDAR