BEGIN:VCALENDAR
VERSION:2.0
PRODID:-//eventon.com NONSGML v1.0//EN
BEGIN:VEVENT
UID:69e62a1e8f09a
DTSTAMP:20260420T152902
DTSTART:20220724T090000Z
DTEND:20220723T110000Z
TZID:Pacific/Midway
LOCATION:
SUMMARY:VÍCTOR MANUEL- NERJA (MÁLAGA)
DESCRIPTION: VÍCTOR MANUEL- NERJA (MÁLAGA)
URL:https://www.santogrialproducciones.com/events/victor-manuel-nerja-malaga/
END:VEVENT
END:VCALENDAR