BEGIN:VCALENDAR
VERSION:2.0
PRODID:-//eventon.com NONSGML v1.0//EN
BEGIN:VEVENT
UID:69e60f25bc1c6
DTSTAMP:20260420T133357
DTSTART:20220710T100000Z
DTEND:20220709T110000Z
TZID:Pacific/Midway
LOCATION:
SUMMARY:VÍCTOR MANUEL- NITS AL CASTELL DE XÀTIVA (ENTRADAS AGOTADAS)
DESCRIPTION: VÍCTOR MANUEL- NITS AL CASTELL DE XÀTIVA (ENTRADAS AGOTADAS)
URL:https://www.santogrialproducciones.com/events/victor-manuel-nits-al-castell-de-xativa-entradas-agotadas/
END:VEVENT
END:VCALENDAR