BEGIN:VCALENDAR
VERSION:2.0
PRODID:-//eventon.com NONSGML v1.0//EN
BEGIN:VEVENT
UID:69e6227b0ad50
DTSTAMP:20260420T145627
DTSTART:20220708T080000Z
DTEND:20220707T110000Z
TZID:Pacific/Midway
LOCATION:
SUMMARY:VÍCTOR MANUEL-  CASTRELO DO MIÑO
DESCRIPTION: VÍCTOR MANUEL-  CASTRELO DO MIÑO
URL:https://www.santogrialproducciones.com/events/victor-manuel-castrelo-do-mino/
END:VEVENT
END:VCALENDAR