BEGIN:VCALENDAR
VERSION:2.0
PRODID:-//eventon.com NONSGML v1.0//EN
BEGIN:VEVENT
UID:69e629a7e808c
DTSTAMP:20260420T152703
DTSTART:20220918T080000Z
DTEND:20220917T110000Z
TZID:Pacific/Midway
LOCATION:
SUMMARY:NANDO AGÜEROS - NOREÑA (ASTURIAS)
DESCRIPTION: NANDO AGÜEROS - NOREÑA (ASTURIAS)
URL:https://www.santogrialproducciones.com/events/nando-agueros-norena-asturias/
END:VEVENT
END:VCALENDAR