BEGIN:VCALENDAR
VERSION:2.0
PRODID:-//eventon.com NONSGML v1.0//EN
BEGIN:VEVENT
UID:69e62a6c84280
DTSTAMP:20260420T153020
DTSTART:20220909T080000Z
DTEND:20220908T110000Z
TZID:Pacific/Midway
LOCATION:
SUMMARY:NANDO AGÜEROS - SANTOÑA (CANTABRIA)
DESCRIPTION: NANDO AGÜEROS - SANTOÑA (CANTABRIA)
URL:https://www.santogrialproducciones.com/events/nando-agueros-santona-cantabria/
END:VEVENT
END:VCALENDAR