BEGIN:VCALENDAR
VERSION:2.0
PRODID:-//eventon.com NONSGML v1.0//EN
BEGIN:VEVENT
UID:69eb27a045598
DTSTAMP:20260424T101944
DTSTART:20220816T080000Z
DTEND:20220815T110000Z
TZID:Pacific/Midway
LOCATION:
SUMMARY:NANDO AGÜEROS - PRIORO (LEÓN)
DESCRIPTION: NANDO AGÜEROS - PRIORO (LEÓN)
URL:https://www.santogrialproducciones.com/events/nando-agueros-prioro-leon/
END:VEVENT
END:VCALENDAR