BEGIN:VCALENDAR
VERSION:2.0
PRODID:-//eventon.com NONSGML v1.0//EN
BEGIN:VEVENT
UID:69e778e895a94
DTSTAMP:20260421T151728
DTSTART:20220813T080000Z
DTEND:20220812T110000Z
TZID:Pacific/Midway
LOCATION:
SUMMARY:NANDO AGÜEROS - MOLINASECA (LEÓN)
DESCRIPTION: NANDO AGÜEROS - MOLINASECA (LEÓN)
URL:https://www.santogrialproducciones.com/events/nando-agueros-molinaseca-leon/
END:VEVENT
END:VCALENDAR