BEGIN:VCALENDAR
VERSION:2.0
PRODID:-//eventon.com NONSGML v1.0//EN
BEGIN:VEVENT
UID:69e60fc123f60
DTSTAMP:20260420T133633
DTSTART:20220807T080000Z
DTEND:20220806T110000Z
TZID:Pacific/Midway
LOCATION:
SUMMARY:NANDO AGÜEROS - TOMBRIO DE ABAJO (LEÓN)
DESCRIPTION: NANDO AGÜEROS - TOMBRIO DE ABAJO (LEÓN)
URL:https://www.santogrialproducciones.com/events/nando-agueros-tombrio-de-abajo-leon/
END:VEVENT
END:VCALENDAR