BEGIN:VCALENDAR
VERSION:2.0
PRODID:-//eventon.com NONSGML v1.0//EN
BEGIN:VEVENT
UID:69e60fbc13301
DTSTAMP:20260420T133628
DTSTART:20220703T080000Z
DTEND:20220702T110000Z
TZID:Pacific/Midway
LOCATION:
SUMMARY:NANDO AGÜEROS - COLLAO (ASTURIAS)
DESCRIPTION: NANDO AGÜEROS - COLLAO (ASTURIAS)
URL:https://www.santogrialproducciones.com/events/nando-agueros-collao-asturias/
END:VEVENT
END:VCALENDAR