BEGIN:VCALENDAR
VERSION:2.0
PRODID:-//eventon.com NONSGML v1.0//EN
BEGIN:VEVENT
UID:69e60fcb307e7
DTSTAMP:20260420T133643
DTSTART:20220702T080000Z
DTEND:20220701T110000Z
TZID:Pacific/Midway
LOCATION:
SUMMARY:NANDO AGÜEROS - RUILOBA (CANTABRIA)
DESCRIPTION: NANDO AGÜEROS - RUILOBA (CANTABRIA)
URL:https://www.santogrialproducciones.com/events/nando-agueros-ruiloba-cantabria/
END:VEVENT
END:VCALENDAR