BEGIN:VCALENDAR
VERSION:2.0
PRODID:-//eventon.com NONSGML v1.0//EN
BEGIN:VEVENT
UID:69e88634a331c
DTSTAMP:20260422T102628
DTSTART:20220805T080000Z
DTEND:20220804T110000Z
TZID:Pacific/Midway
LOCATION:
SUMMARY:NANDO AGÜEROS - LUANCO (ASTURIAS) – Festival «Luanco al mar».
DESCRIPTION: NANDO AGÜEROS - LUANCO (ASTURIAS) – Festival «Luanco al mar».
URL:https://www.santogrialproducciones.com/events/nando-agueros-luanco-asturias-festival-luanco-al-mar/
END:VEVENT
END:VCALENDAR