BEGIN:VCALENDAR
VERSION:2.0
PRODID:-//eventon.com NONSGML v1.0//EN
BEGIN:VEVENT
UID:69e6294f71e39
DTSTAMP:20260420T152535
DTSTART:20220625T070000Z
DTEND:20220624T110000Z
TZID:Pacific/Midway
LOCATION:
SUMMARY:NANDO AGÜEROS - VILLANUEVA DE LA PEÑA (CANTABRIA)
DESCRIPTION: NANDO AGÜEROS - VILLANUEVA DE LA PEÑA (CANTABRIA)
URL:https://www.santogrialproducciones.com/events/nando-agueros-villanueva-de-la-pena-cantabria/
END:VEVENT
END:VCALENDAR