BEGIN:VCALENDAR
VERSION:2.0
PRODID:-//eventon.com NONSGML v1.0//EN
BEGIN:VEVENT
UID:69e62ae747a5e
DTSTAMP:20260420T153223
DTSTART:20230210T080000Z
DTEND:20230209T110000Z
TZID:Pacific/Midway
LOCATION:
SUMMARY:VICTOR MANUEL - BARCELONA
DESCRIPTION: VICTOR MANUEL - BARCELONA
URL:https://www.santogrialproducciones.com/events/victor-manuel-barcelona/
END:VEVENT
END:VCALENDAR