BEGIN:VCALENDAR
VERSION:2.0
PRODID:-//eventon.com NONSGML v1.0//EN
BEGIN:VEVENT
UID:69e8897dd257c
DTSTAMP:20260422T104029
DTSTART:20221217T080000Z
DTEND:20221216T110000Z
TZID:Pacific/Midway
LOCATION:
SUMMARY:VICTOR MANUEL - VALENCIA
DESCRIPTION: VICTOR MANUEL - VALENCIA
URL:https://www.santogrialproducciones.com/events/victor-manuel-valencia/
END:VEVENT
END:VCALENDAR