BEGIN:VCALENDAR
VERSION:2.0
PRODID:-//eventon.com NONSGML v1.0//EN
BEGIN:VEVENT
UID:69e637ff7ea50
DTSTAMP:20260420T162815
DTSTART:20220619T070000Z
DTEND:20220618T210000Z
TZID:Pacific/Midway
LOCATION:
SUMMARY:BERTIN OSBORNE - GIJON - TEATRO DE LA LABORAL
DESCRIPTION: BERTIN OSBORNE - GIJON - TEATRO DE LA LABORAL
URL:https://www.santogrialproducciones.com/events/bertin-osborne-gijon-teatro-de-la-laboral/
END:VEVENT
END:VCALENDAR