BEGIN:VCALENDAR
VERSION:2.0
PRODID:-//eventon.com NONSGML v1.0//EN
BEGIN:VEVENT
UID:69e638019e663
DTSTAMP:20260420T162817
DTSTART:20221031T080000Z
DTEND:20221030T110000Z
TZID:Pacific/Midway
LOCATION:
SUMMARY:VICTOR MANUEL - GRAN CANARIA (ISLAS CANARIAS)
DESCRIPTION: VICTOR MANUEL - GRAN CANARIA (ISLAS CANARIAS)
URL:https://www.santogrialproducciones.com/events/victor-manuel-gran-canaria-islas-canarias/
END:VEVENT
END:VCALENDAR