BEGIN:VCALENDAR
VERSION:2.0
PRODID:-//eventon.com NONSGML v1.0//EN
BEGIN:VEVENT
UID:69e60fd0351c8
DTSTAMP:20260420T133648
DTSTART:20221030T080000Z
DTEND:20221029T110000Z
TZID:Pacific/Midway
LOCATION:
SUMMARY:VICTOR MANUEL - LANZAROTE (ISLAS CANARIAS)
DESCRIPTION: VICTOR MANUEL - LANZAROTE (ISLAS CANARIAS)
URL:https://www.santogrialproducciones.com/events/victor-manuel-lanzarote-islas-canarias/
END:VEVENT
END:VCALENDAR