BEGIN:VCALENDAR
VERSION:2.0
PRODID:-//eventon.com NONSGML v1.0//EN
BEGIN:VEVENT
UID:69e60f39ca0b6
DTSTAMP:20260420T133417
DTSTART:20220730T090000Z
DTEND:20220729T110000Z
TZID:Pacific/Midway
LOCATION:
SUMMARY:VICTOR MANUEL -AGUILAS (MURCIA)
DESCRIPTION: VICTOR MANUEL -AGUILAS (MURCIA)
URL:https://www.santogrialproducciones.com/events/victor-manuel-aguilas-murcia/
END:VEVENT
END:VCALENDAR