BEGIN:VCALENDAR
VERSION:2.0
PRODID:-//eventon.com NONSGML v1.0//EN
BEGIN:VEVENT
UID:69e624cf7934f
DTSTAMP:20260420T150623
DTSTART:20220704T090000Z
DTEND:20220703T110000Z
TZID:Pacific/Midway
LOCATION:
SUMMARY:VÍCTOR MANUEL- ATARFE (GRANADA)
DESCRIPTION: VÍCTOR MANUEL- ATARFE (GRANADA)
URL:https://www.santogrialproducciones.com/events/victor-manuel-atarfe-granada/
END:VEVENT
END:VCALENDAR