BEGIN:VCALENDAR
VERSION:2.0
PRODID:-//eventon.com NONSGML v1.0//EN
BEGIN:VEVENT
UID:69eb27a8f3f31
DTSTAMP:20260424T101952
DTSTART:20220508T070000Z
DTEND:20220507T230000Z
TZID:Pacific/Midway
LOCATION:
SUMMARY:FRAN JUESAS - AVILÉS
DESCRIPTION: FRAN JUESAS - AVILÉS
URL:https://www.santogrialproducciones.com/events/fran-juesas-aviles/
END:VEVENT
END:VCALENDAR