BEGIN:VCALENDAR
VERSION:2.0
PRODID:-//eventon.com NONSGML v1.0//EN
BEGIN:VEVENT
UID:69e60fd51eb3b
DTSTAMP:20260420T133653
DTSTART:20220925T110000Z
DTEND:20220926T105900Z
TZID:Pacific/Midway
LOCATION:
SUMMARY:VÍCTOR MANUEL SINFÓNICO - GIJÓN (ENTRADAS AGOTADAS)
DESCRIPTION: VÍCTOR MANUEL SINFÓNICO - GIJÓN (ENTRADAS AGOTADAS)
URL:https://www.santogrialproducciones.com/events/victor-manuel-sinfonico-gijon-3/
END:VEVENT
END:VCALENDAR