BEGIN:VCALENDAR
VERSION:2.0
PRODID:-//eventon.com NONSGML v1.0//EN
BEGIN:VEVENT
UID:69e5fa9549ad3
DTSTAMP:20260420T120613
DTSTART:20221221T110000Z
DTEND:20221222T105900Z
TZID:Pacific/Midway
LOCATION:
SUMMARY:VÍCTOR MANUEL SINFÓNICO - MADRID
DESCRIPTION: VÍCTOR MANUEL SINFÓNICO - MADRID
URL:https://www.santogrialproducciones.com/events/victor-manuel-sinfonico-madrid/
END:VEVENT
END:VCALENDAR