BEGIN:VCALENDAR
VERSION:2.0
PRODID:-//eventon.com NONSGML v1.0//EN
BEGIN:VEVENT
UID:69e60f246f60f
DTSTAMP:20260420T133356
DTSTART:20220402T110000Z
DTEND:20220403T105900Z
TZID:Pacific/Midway
LOCATION:
SUMMARY:NANDO AGÜEROS - BURLADA
DESCRIPTION: NANDO AGÜEROS - BURLADA
URL:https://www.santogrialproducciones.com/events/nando-agueros-burlada/
END:VEVENT
END:VCALENDAR