BEGIN:VCALENDAR
VERSION:2.0
PRODID:-//eventon.com NONSGML v1.0//EN
BEGIN:VEVENT
UID:69e778e22cfec
DTSTAMP:20260421T151722
DTSTART:20220924T110000Z
DTEND:20220925T105900Z
TZID:Pacific/Midway
LOCATION:
SUMMARY:VICTOR MANUEL SINFÓNICO - GIJÓN (ENTRADAS AGOTADAS)
DESCRIPTION: VICTOR MANUEL SINFÓNICO - GIJÓN (ENTRADAS AGOTADAS)
URL:https://www.santogrialproducciones.com/events/victor-manuel-sinfonico-gijon-2/
END:VEVENT
END:VCALENDAR