BEGIN:VCALENDAR
VERSION:2.0
PRODID:-//eventon.com NONSGML v1.0//EN
BEGIN:VEVENT
UID:69e8898c45439
DTSTAMP:20260422T104044
DTSTART:20220924T070000Z
DTEND:20220924T100000Z
TZID:Pacific/Midway
LOCATION:
SUMMARY:VICTOR MANUEL SINFÓNICO - GIJÓN (ENTRADAS AGOTADAS)
DESCRIPTION: VICTOR MANUEL SINFÓNICO - GIJÓN (ENTRADAS AGOTADAS)
URL:https://www.santogrialproducciones.com/events/victor-manuel-sinfonico-gijon/
END:VEVENT
END:VCALENDAR