BEGIN:VCALENDAR
VERSION:2.0
PRODID:-//eventon.com NONSGML v1.0//EN
BEGIN:VEVENT
UID:69e637e350353
DTSTAMP:20260420T162747
DTSTART:20220305T110000Z
DTEND:20220306T105900Z
TZID:Pacific/Midway
LOCATION:
SUMMARY:NANDO AGÜEROS - SANTANDER
DESCRIPTION: NANDO AGÜEROS - SANTANDER
URL:https://www.santogrialproducciones.com/events/nando-agueros-santander-2/
END:VEVENT
END:VCALENDAR