BEGIN:VCALENDAR
VERSION:2.0
PRODID:-//eventon.com NONSGML v1.0//EN
BEGIN:VEVENT
UID:69e60f3eb44a9
DTSTAMP:20260420T133422
DTSTART:20220327T070000Z
DTEND:20220327T105000Z
TZID:Pacific/Midway
LOCATION:
SUMMARY:NANDO AGÜEROS - AVILÉS
DESCRIPTION: NANDO AGÜEROS - AVILÉS
URL:https://www.santogrialproducciones.com/events/nando-agueros-aviles/
END:VEVENT
END:VCALENDAR