BEGIN:VCALENDAR
VERSION:2.0
PRODID:-//eventon.com NONSGML v1.0//EN
BEGIN:VEVENT
UID:69e779335031c
DTSTAMP:20260421T151843
DTSTART:20220306T070000Z
DTEND:20220306T105000Z
TZID:Pacific/Midway
LOCATION:
SUMMARY:NANDO AGÜEROS - SANTANDER
DESCRIPTION: NANDO AGÜEROS - SANTANDER
URL:https://www.santogrialproducciones.com/events/nando-agueros-santander/
END:VEVENT
END:VCALENDAR