BEGIN:VCALENDAR
VERSION:2.0
PRODID:-//eventon.com NONSGML v1.0//EN
BEGIN:VEVENT
UID:69e63800a479d
DTSTAMP:20260420T162816
DTSTART:20220304T110000Z
DTEND:20220305T105900Z
TZID:Pacific/Midway
LOCATION:
SUMMARY:NANDO AGÜEROS - MIRANDA DE EBRO
DESCRIPTION: NANDO AGÜEROS - MIRANDA DE EBRO
URL:https://www.santogrialproducciones.com/events/nando-agueros-miranda-de-ebro/
END:VEVENT
END:VCALENDAR