BEGIN:VCALENDAR
VERSION:2.0
PRODID:-//eventon.com NONSGML v1.0//EN
BEGIN:VEVENT
UID:69e62a999dc71
DTSTAMP:20260420T153105
DTSTART:20220226T070000Z
DTEND:20220226T105000Z
TZID:Pacific/Midway
LOCATION:
SUMMARY:NANDO AGÜEROS - LEÓN
DESCRIPTION: NANDO AGÜEROS - LEÓN
URL:https://www.santogrialproducciones.com/events/nando-agueros-leon/
END:VEVENT
END:VCALENDAR