BEGIN:VCALENDAR
VERSION:2.0
PRODID:-//eventon.com NONSGML v1.0//EN
BEGIN:VEVENT
UID:69e5e0b22bf39
DTSTAMP:20260420T101546
DTSTART:20220215T070000Z
DTEND:20220215T100000Z
TZID:Pacific/Midway
LOCATION:
SUMMARY:NANDO AGÜEROS - MADRID
DESCRIPTION: NANDO AGÜEROS - MADRID
URL:https://www.santogrialproducciones.com/events/nando-agueros-madrid/
END:VEVENT
END:VCALENDAR