BEGIN:VCALENDAR
VERSION:2.0
PRODID:-//eventon.com NONSGML v1.0//EN
BEGIN:VEVENT
UID:69e6227675d91
DTSTAMP:20260420T145622
DTSTART:20220129T070000Z
DTEND:20220129T100000Z
TZID:Pacific/Midway
LOCATION:
SUMMARY:NANDO AGÜEROS - BILBAO
DESCRIPTION: NANDO AGÜEROS - BILBAO
URL:https://www.santogrialproducciones.com/events/nando-agueros-bilbao/
END:VEVENT
END:VCALENDAR