BEGIN:VCALENDAR
VERSION:2.0
PRODID:-//eventon.com NONSGML v1.0//EN
BEGIN:VEVENT
UID:69e5fa48c8e59
DTSTAMP:20260420T120456
DTSTART:20220130T070000Z
DTEND:20220130T100000Z
TZID:Pacific/Midway
LOCATION:
SUMMARY:FRAN JUESAS - OVIEDO
DESCRIPTION: FRAN JUESAS - OVIEDO
URL:https://www.santogrialproducciones.com/events/fran-juesas-oviedo/
END:VEVENT
END:VCALENDAR