BEGIN:VCALENDAR
VERSION:2.0
PRODID:-//eventon.com NONSGML v1.0//EN
BEGIN:VEVENT
UID:69e5fa28ae9fc
DTSTAMP:20260420T120424
DTSTART:20220212T070000Z
DTEND:20220212T100000Z
TZID:Pacific/Midway
LOCATION:
SUMMARY:NANDO AGUEROS - GIJÓN
DESCRIPTION: NANDO AGUEROS - GIJÓN
URL:https://www.santogrialproducciones.com/events/nando-agueros-gijon/
END:VEVENT
END:VCALENDAR