BEGIN:VCALENDAR
VERSION:2.0
PRODID:-//eventon.com NONSGML v1.0//EN
BEGIN:VEVENT
UID:69e637e2dabdc
DTSTAMP:20260420T162746
DTSTART:20210925T080000Z
DTEND:20210925T100000Z
TZID:Pacific/Midway
LOCATION:
SUMMARY:VICTOR MANUEL-ALTEA - (ALICANTE) - FORMATO ACÚSTICO
DESCRIPTION: VICTOR MANUEL-ALTEA - (ALICANTE) - FORMATO ACÚSTICO
URL:https://www.santogrialproducciones.com/events/victor-manuel-altea-alicante-formato-acustico/
END:VEVENT
END:VCALENDAR