BEGIN:VCALENDAR
VERSION:2.0
PRODID:-//eventon.com NONSGML v1.0//EN
BEGIN:VEVENT
UID:69e889d67ff17
DTSTAMP:20260422T104158
DTSTART:20210912T080000Z
DTEND:20210912T100000Z
TZID:Pacific/Midway
LOCATION:
SUMMARY:VICTOR MANUEL-MANZANARES-CIUDAD REAL (FORMATO BANDA)
DESCRIPTION: VICTOR MANUEL-MANZANARES-CIUDAD REAL (FORMATO BANDA)
URL:https://www.santogrialproducciones.com/events/victor-manuel-manzanares-ciudad-real-formato-banda/
END:VEVENT
END:VCALENDAR