BEGIN:VCALENDAR
VERSION:2.0
PRODID:-//eventon.com NONSGML v1.0//EN
BEGIN:VEVENT
UID:69e63800c4373
DTSTAMP:20260420T162816
DTSTART:20210919T080000Z
DTEND:20210919T100000Z
TZID:Pacific/Midway
LOCATION:
SUMMARY:Victor Manuel - Fitero(Navarra) - Formato Acústico
DESCRIPTION: Victor Manuel - Fitero(Navarra) - Formato Acústico
URL:https://www.santogrialproducciones.com/events/victor-manuel-fiteronavarra-formato-acustico/
END:VEVENT
END:VCALENDAR