BEGIN:VCALENDAR
VERSION:2.0
PRODID:-//eventon.com NONSGML v1.0//EN
BEGIN:VEVENT
UID:69e637e46d0a9
DTSTAMP:20260420T162748
DTSTART:20210810T080000Z
DTEND:20210810T100000Z
TZID:Pacific/Midway
LOCATION:
SUMMARY:Fran Juesas - Luanco al Mar- Muelle Viejo de Luanco
DESCRIPTION: Fran Juesas - Luanco al Mar- Muelle Viejo de Luanco
URL:https://www.santogrialproducciones.com/events/fran-juesas-luanco-al-mar-muelle-viejo-de-luanco/
END:VEVENT
END:VCALENDAR