BEGIN:VCALENDAR
VERSION:2.0
PRODID:-//eventon.com NONSGML v1.0//EN
BEGIN:VEVENT
UID:69e64dedda926
DTSTAMP:20260420T180149
DTSTART:20210809T080000Z
DTEND:20210809T100000Z
TZID:Pacific/Midway
LOCATION:
SUMMARY:Victor Manuel - Luanco - Muelle Viejo de Luanco - (Formato acústico)
DESCRIPTION: Victor Manuel - Luanco - Muelle Viejo de Luanco - (Formato acústico)
URL:https://www.santogrialproducciones.com/events/victor-manuel-luanco-muelle-viejo-de-luanco/
END:VEVENT
END:VCALENDAR