BEGIN:VCALENDAR
VERSION:2.0
PRODID:-//eventon.com NONSGML v1.0//EN
BEGIN:VEVENT
UID:69eb2a7fddee1
DTSTAMP:20260424T103159
DTSTART:20210808T080000Z
DTEND:20210808T100000Z
TZID:Pacific/Midway
LOCATION:
SUMMARY:Victor Manuel - Luanco(Asturias) - ( Formato acústico ) ENTRADAS AGOTADAS
DESCRIPTION: Victor Manuel - Luanco(Asturias) - ( Formato acústico ) ENTRADAS AGOTADAS
URL:https://www.santogrialproducciones.com/events/victor-manuel-luancoasturias-muelle-viejo-de-luanco/
END:VEVENT
END:VCALENDAR