BEGIN:VCALENDAR
VERSION:2.0
PRODID:-//eventon.com NONSGML v1.0//EN
BEGIN:VEVENT
UID:69eb26e911139
DTSTAMP:20260424T101641
DTSTART:20210627T090000Z
DTEND:20210627T105000Z
TZID:Pacific/Midway
LOCATION:
SUMMARY:Victor Manuel - Onda- Castellón-(Formato Banda)
DESCRIPTION: Victor Manuel - Onda- Castellón-(Formato Banda)
URL:https://www.santogrialproducciones.com/events/victor-manuel-onda-castellon-formato-banda/
END:VEVENT
END:VCALENDAR