BEGIN:VCALENDAR
VERSION:2.0
PRODID:-//eventon.com NONSGML v1.0//EN
BEGIN:VEVENT
UID:69e637d549734
DTSTAMP:20260420T162733
DTSTART:20210619T110000Z
DTEND:20210620T105900Z
TZID:Pacific/Midway
LOCATION:
SUMMARY:Victor Manuel - Parador de Corias (AGOTADO)
DESCRIPTION: Victor Manuel - Parador de Corias (AGOTADO)
URL:https://www.santogrialproducciones.com/events/victor-manuel-caprichos-musicales-parador-de-coriascangas-del-narcea/
END:VEVENT
END:VCALENDAR