BEGIN:VCALENDAR
VERSION:2.0
PRODID:-//eventon.com NONSGML v1.0//EN
BEGIN:VEVENT
UID:69e63d3ea2ae1
DTSTAMP:20260420T165038
DTSTART:20210731T090000Z
DTEND:20210731T105000Z
TZID:Pacific/Midway
LOCATION:
SUMMARY:Victor Manuel - Noches Mediterraneas - Alicante (Formato acústico)
DESCRIPTION: Victor Manuel - Noches Mediterraneas - Alicante (Formato acústico)
URL:https://www.santogrialproducciones.com/events/victor-manuel-noches-mediterraneas-alicante/
END:VEVENT
END:VCALENDAR