BEGIN:VCALENDAR
VERSION:2.0
PRODID:-//eventon.com NONSGML v1.0//EN
BEGIN:VEVENT
UID:69e60fb21ca7d
DTSTAMP:20260420T133618
DTSTART:20210623T180000Z
DTEND:20210623T210000Z
TZID:Europe/Madrid
LOCATION:
SUMMARY:Victor Manuel /Nando Agüeros- Noches del Botánico - Madrid
DESCRIPTION: Victor Manuel /Nando Agüeros- Noches del Botánico - Madrid
URL:https://www.santogrialproducciones.com/events/victor-manuel-noches-del-botanico-madrid/
END:VEVENT
END:VCALENDAR